BEGIN:VCALENDAR
VERSION:2.0
PRODID:-//JMT Consulting//Sage Intacct Training//EN
BEGIN:VEVENT
UID:intacct-bootcamp-dc-2025@jmtconsulting.com
DTSTAMP:20251117T193214Z
DTSTART:20251210T130000Z
DTEND:20251210T220000Z
SUMMARY:Washington D.C. Sage Intacct Training: Full-Day Bootcamp
LOCATION:National Association of Attorneys General\, 1850 M Street NW\, Washington\, DC 20036
DESCRIPTION:Full-day hands-on Sage Intacct training designed for new and early users. Covers General Ledger, Company Setup, Accounts Payable, Accounts Receivable, Cash Management, and recent release updates. Breakfast and lunch included. Eligible for 7 CPE credits.
END:VEVENT
END:VCALENDAR
